BEGIN:VCALENDAR
VERSION:2.0
PRODID:-//Örebro TK - ECPv6.13.2.1//NONSGML v1.0//EN
CALSCALE:GREGORIAN
METHOD:PUBLISH
X-ORIGINAL-URL:https://orebrotk.se
X-WR-CALDESC:Händelser för Örebro TK
REFRESH-INTERVAL;VALUE=DURATION:PT1H
X-Robots-Tag:noindex
X-PUBLISHED-TTL:PT1H
BEGIN:VTIMEZONE
TZID:Europe/Stockholm
BEGIN:DAYLIGHT
TZOFFSETFROM:+0100
TZOFFSETTO:+0200
TZNAME:CEST
DTSTART:20240331T010000
END:DAYLIGHT
BEGIN:STANDARD
TZOFFSETFROM:+0200
TZOFFSETTO:+0100
TZNAME:CET
DTSTART:20241027T010000
END:STANDARD
END:VTIMEZONE
BEGIN:VEVENT
DTSTART;TZID=Europe/Stockholm:20241109T100000
DTEND;TZID=Europe/Stockholm:20241109T130000
DTSTAMP:20260420T182721
CREATED:20240927T071932Z
LAST-MODIFIED:20240927T074451Z
UID:10000129-1731146400-1731157200@orebrotk.se
SUMMARY:Seriespel Herrar 35 mot Strängnäs TK i Backahallen
DESCRIPTION:
URL:https://orebrotk.se/evenemang/seriespel-herrar-35-mot-strangnas-tk-i-backahallen/
CATEGORIES:Tennis
END:VEVENT
BEGIN:VEVENT
DTSTART;TZID=Europe/Stockholm:20241109T120000
DTEND;TZID=Europe/Stockholm:20241109T150000
DTSTAMP:20260420T182721
CREATED:20241001T072350Z
LAST-MODIFIED:20241001T072506Z
UID:10000137-1731153600-1731164400@orebrotk.se
SUMMARY:Seriespel Pojkar 15 mot Västerås TK i Backahallen
DESCRIPTION:
URL:https://orebrotk.se/evenemang/seriespel-pojkar-13-mot-strangnas-tk-i-backahallen/
CATEGORIES:Tennis
END:VEVENT
BEGIN:VEVENT
DTSTART;TZID=Europe/Stockholm:20241109T120000
DTEND;TZID=Europe/Stockholm:20241109T150000
DTSTAMP:20260420T182721
CREATED:20241001T072717Z
LAST-MODIFIED:20241001T072717Z
UID:10000138-1731153600-1731164400@orebrotk.se
SUMMARY:Seriespel Flickor 15 mot USIF i Backahallen
DESCRIPTION:
URL:https://orebrotk.se/evenemang/seriespel-flickor-15-mot-usif-i-backahallen/
CATEGORIES:Tennis
END:VEVENT
BEGIN:VEVENT
DTSTART;TZID=Europe/Stockholm:20241110T110000
DTEND;TZID=Europe/Stockholm:20241110T140000
DTSTAMP:20260420T182721
CREATED:20241001T072822Z
LAST-MODIFIED:20241001T073813Z
UID:10000139-1731236400-1731247200@orebrotk.se
SUMMARY:Seriespel Pojkar 15 mot Sigtuna TK i Backahallen
DESCRIPTION:
URL:https://orebrotk.se/evenemang/seriespel-pojkar-15-mot-sigtuna-tk-i-backahallen/
CATEGORIES:Tennis
END:VEVENT
BEGIN:VEVENT
DTSTART;VALUE=DATE:20241116
DTEND;VALUE=DATE:20241118
DTSTAMP:20260420T182721
CREATED:20240927T073900Z
LAST-MODIFIED:20240927T073900Z
UID:10000134-1731715200-1731887999@orebrotk.se
SUMMARY:SO Tour Mini/Midi/Maxi i Backahallen
DESCRIPTION:Mer info –>
URL:https://orebrotk.se/evenemang/so-tour-mini-midi-maxi-i-backahallen/
CATEGORIES:Tennis
END:VEVENT
BEGIN:VEVENT
DTSTART;VALUE=DATE:20241124
DTEND;VALUE=DATE:20241125
DTSTAMP:20260420T182721
CREATED:20241001T073407Z
LAST-MODIFIED:20241001T073407Z
UID:10000142-1732406400-1732492799@orebrotk.se
SUMMARY:Seriespel Herrlag 2 mot Tabergsdalen TK i Backahallen
DESCRIPTION:
URL:https://orebrotk.se/evenemang/seriespel-herrlag-2-mot-tabergsdalen-tk-i-backahallen/
CATEGORIES:Tennis
END:VEVENT
BEGIN:VEVENT
DTSTART;VALUE=DATE:20241129
DTEND;VALUE=DATE:20241202
DTSTAMP:20260420T182721
CREATED:20241001T134448Z
LAST-MODIFIED:20241001T134448Z
UID:10000145-1732838400-1733097599@orebrotk.se
SUMMARY:Laweka Padel Open
DESCRIPTION:Sanktionerad padel-tävling. Klicka här för anmälan info
URL:https://orebrotk.se/evenemang/laweka-padel-open/
CATEGORIES:Padel
END:VEVENT
BEGIN:VEVENT
DTSTART;TZID=Europe/Stockholm:20241130T100000
DTEND;TZID=Europe/Stockholm:20241130T140000
DTSTAMP:20260420T182721
CREATED:20240927T072114Z
LAST-MODIFIED:20240927T072114Z
UID:10000130-1732960800-1732975200@orebrotk.se
SUMMARY:Seriespel Herrar 45 mot TK Hobby i Backahallen
DESCRIPTION:
URL:https://orebrotk.se/evenemang/seriespel-herrar-45-mot-tk-hobby-i-backahallen/
CATEGORIES:Tennis
END:VEVENT
END:VCALENDAR