BEGIN:VCALENDAR
VERSION:2.0
PRODID:-//Örebro TK - ECPv6.13.2.1//NONSGML v1.0//EN
CALSCALE:GREGORIAN
METHOD:PUBLISH
X-ORIGINAL-URL:https://orebrotk.se
X-WR-CALDESC:Händelser för Örebro TK
REFRESH-INTERVAL;VALUE=DURATION:PT1H
X-Robots-Tag:noindex
X-PUBLISHED-TTL:PT1H
BEGIN:VTIMEZONE
TZID:Europe/Stockholm
BEGIN:DAYLIGHT
TZOFFSETFROM:+0100
TZOFFSETTO:+0200
TZNAME:CEST
DTSTART:20240331T010000
END:DAYLIGHT
BEGIN:STANDARD
TZOFFSETFROM:+0200
TZOFFSETTO:+0100
TZNAME:CET
DTSTART:20241027T010000
END:STANDARD
END:VTIMEZONE
BEGIN:VEVENT
DTSTART;TZID=Europe/Stockholm:20240301T080000
DTEND;TZID=Europe/Stockholm:20240303T170000
DTSTAMP:20260420T171911
CREATED:20240109T120732Z
LAST-MODIFIED:20240109T120732Z
UID:10000004-1709280000-1709485200@orebrotk.se
SUMMARY:Handelsbanken Open
DESCRIPTION:Anmälan\, lottning & Spelschema
URL:https://orebrotk.se/evenemang/handelsbanken-open/
CATEGORIES:Tennis
END:VEVENT
BEGIN:VEVENT
DTSTART;TZID=Europe/Stockholm:20240305T183000
DTEND;TZID=Europe/Stockholm:20240305T215000
DTSTAMP:20260420T171911
CREATED:20240109T121317Z
LAST-MODIFIED:20240109T121317Z
UID:10000013-1709663400-1709675400@orebrotk.se
SUMMARY:Tennisligan
DESCRIPTION:Tennisligan\nGruppelet är perfekt för dig som spelar tennis på motionsnivå och vill spela matcher. Matcherna spelas i 50 minuter och efter matchen registrerar man i resultatet via sitt inlogg som man får när man börjar i gruppspelet. Grupperna består av 4-5 spelare och man flyttas upp och ner i de olika grupperna\, man möter alla i sin grupp en gång. Man tar själv anvar för vilka tider man ska spela sina matchter all den informatioen finns på inlogget man får när man registerar sig. Om man inte kan spela den utsatta tiden måste man tillsammans med sin motståndare komma överens om en ny tid som man då får betala själv. \nFör intresseanmälan eller frågor kontakta: eric.johansson@orebrotk.se \nSpelschema \nLycka till! \nÖrebro TK
URL:https://orebrotk.se/evenemang/tennisligan/2024-03-05/
CATEGORIES:Tennis
END:VEVENT
BEGIN:VEVENT
DTSTART;TZID=Europe/Stockholm:20240312T183000
DTEND;TZID=Europe/Stockholm:20240312T215000
DTSTAMP:20260420T171911
CREATED:20240109T121317Z
LAST-MODIFIED:20240109T121317Z
UID:10000014-1710268200-1710280200@orebrotk.se
SUMMARY:Tennisligan
DESCRIPTION:Tennisligan\nGruppelet är perfekt för dig som spelar tennis på motionsnivå och vill spela matcher. Matcherna spelas i 50 minuter och efter matchen registrerar man i resultatet via sitt inlogg som man får när man börjar i gruppspelet. Grupperna består av 4-5 spelare och man flyttas upp och ner i de olika grupperna\, man möter alla i sin grupp en gång. Man tar själv anvar för vilka tider man ska spela sina matchter all den informatioen finns på inlogget man får när man registerar sig. Om man inte kan spela den utsatta tiden måste man tillsammans med sin motståndare komma överens om en ny tid som man då får betala själv. \nFör intresseanmälan eller frågor kontakta: eric.johansson@orebrotk.se \nSpelschema \nLycka till! \nÖrebro TK
URL:https://orebrotk.se/evenemang/tennisligan/2024-03-12/
CATEGORIES:Tennis
END:VEVENT
BEGIN:VEVENT
DTSTART;TZID=Europe/Stockholm:20240319T183000
DTEND;TZID=Europe/Stockholm:20240319T215000
DTSTAMP:20260420T171911
CREATED:20240109T121317Z
LAST-MODIFIED:20240109T121317Z
UID:10000015-1710873000-1710885000@orebrotk.se
SUMMARY:Tennisligan
DESCRIPTION:Tennisligan\nGruppelet är perfekt för dig som spelar tennis på motionsnivå och vill spela matcher. Matcherna spelas i 50 minuter och efter matchen registrerar man i resultatet via sitt inlogg som man får när man börjar i gruppspelet. Grupperna består av 4-5 spelare och man flyttas upp och ner i de olika grupperna\, man möter alla i sin grupp en gång. Man tar själv anvar för vilka tider man ska spela sina matchter all den informatioen finns på inlogget man får när man registerar sig. Om man inte kan spela den utsatta tiden måste man tillsammans med sin motståndare komma överens om en ny tid som man då får betala själv. \nFör intresseanmälan eller frågor kontakta: eric.johansson@orebrotk.se \nSpelschema \nLycka till! \nÖrebro TK
URL:https://orebrotk.se/evenemang/tennisligan/2024-03-19/
CATEGORIES:Tennis
END:VEVENT
BEGIN:VEVENT
DTSTART;TZID=Europe/Stockholm:20240323T083000
DTEND;TZID=Europe/Stockholm:20240323T113000
DTSTAMP:20260420T171911
CREATED:20240213T131425Z
LAST-MODIFIED:20240213T131425Z
UID:10000032-1711182600-1711193400@orebrotk.se
SUMMARY:Handelsbanken Mini Open (RÖD)
DESCRIPTION:Information och anmälan
URL:https://orebrotk.se/evenemang/handelsbanken-mini-open-rod/
END:VEVENT
BEGIN:VEVENT
DTSTART;TZID=Europe/Stockholm:20240323T113000
DTEND;TZID=Europe/Stockholm:20240323T143000
DTSTAMP:20260420T171911
CREATED:20240213T131919Z
LAST-MODIFIED:20240213T134601Z
UID:10000034-1711193400-1711204200@orebrotk.se
SUMMARY:Handelsbanken Maxi Open (GRÖN)
DESCRIPTION:Information och anmälan
URL:https://orebrotk.se/evenemang/handelsbanken-maxi-open-gron/
END:VEVENT
BEGIN:VEVENT
DTSTART;TZID=Europe/Stockholm:20240323T143000
DTEND;TZID=Europe/Stockholm:20240323T173000
DTSTAMP:20260420T171911
CREATED:20240213T132714Z
LAST-MODIFIED:20240213T133846Z
UID:10000035-1711204200-1711215000@orebrotk.se
SUMMARY:Handelsbanken Juniortennis Open klass 1 (GUL)
DESCRIPTION:Information och anmälan
URL:https://orebrotk.se/evenemang/handelsbanken-juniortennis-open-gul/
END:VEVENT
BEGIN:VEVENT
DTSTART;TZID=Europe/Stockholm:20240323T170000
DTEND;TZID=Europe/Stockholm:20240323T200000
DTSTAMP:20260420T171911
CREATED:20240213T134321Z
LAST-MODIFIED:20240213T134321Z
UID:10000036-1711213200-1711224000@orebrotk.se
SUMMARY:Handelsbanken Juniortennis Open klass 2 (GUL)
DESCRIPTION:Information och anmälan
URL:https://orebrotk.se/evenemang/handelsbanken-juniortennis-open-klass-2-gul/
END:VEVENT
BEGIN:VEVENT
DTSTART;TZID=Europe/Stockholm:20240324T083000
DTEND;TZID=Europe/Stockholm:20240324T113000
DTSTAMP:20260420T171911
CREATED:20240213T131705Z
LAST-MODIFIED:20240213T131705Z
UID:10000033-1711269000-1711279800@orebrotk.se
SUMMARY:Handelsbanken Midi Open (ORANGE)
DESCRIPTION:Information och anmälan
URL:https://orebrotk.se/evenemang/handelsbanken-midi-open-orange/
END:VEVENT
BEGIN:VEVENT
DTSTART;TZID=Europe/Stockholm:20240325T080000
DTEND;TZID=Europe/Stockholm:20240325T170000
DTSTAMP:20260420T171911
CREATED:20240311T171959Z
LAST-MODIFIED:20240311T171959Z
UID:10000040-1711353600-1711386000@orebrotk.se
SUMMARY:Intensivkurs Tennis
DESCRIPTION:Vi har en intensivkurs för vår vuxentennis (nivå medel) endast 4 platser först till kvarn. \nMån-Tor 25/3 -28/3 kl.17.40-19.20 \nPris: 1200 kr (Endast medlemmar) \nAnmälan
URL:https://orebrotk.se/evenemang/intensivkurs-tennis/2024-03-25/1/
CATEGORIES:Tennis
END:VEVENT
BEGIN:VEVENT
DTSTART;TZID=Europe/Stockholm:20240325T174000
DTEND;TZID=Europe/Stockholm:20240328T192000
DTSTAMP:20260420T171911
CREATED:20240311T171959Z
LAST-MODIFIED:20240311T171959Z
UID:10000041-1711388400-1711653600@orebrotk.se
SUMMARY:Intensivkurs Tennis
DESCRIPTION:Vi har en intensivkurs för vår vuxentennis (nivå medel) endast 4 platser först till kvarn. \nMån-Tor 25/3 -28/3 kl.17.40-19.20 \nPris: 1200 kr (Endast medlemmar) \nAnmälan
URL:https://orebrotk.se/evenemang/intensivkurs-tennis/2024-03-25/2/
CATEGORIES:Tennis
END:VEVENT
BEGIN:VEVENT
DTSTART;TZID=Europe/Stockholm:20240326T183000
DTEND;TZID=Europe/Stockholm:20240326T215000
DTSTAMP:20260420T171911
CREATED:20240109T121317Z
LAST-MODIFIED:20240109T121317Z
UID:10000016-1711477800-1711489800@orebrotk.se
SUMMARY:Tennisligan
DESCRIPTION:Tennisligan\nGruppelet är perfekt för dig som spelar tennis på motionsnivå och vill spela matcher. Matcherna spelas i 50 minuter och efter matchen registrerar man i resultatet via sitt inlogg som man får när man börjar i gruppspelet. Grupperna består av 4-5 spelare och man flyttas upp och ner i de olika grupperna\, man möter alla i sin grupp en gång. Man tar själv anvar för vilka tider man ska spela sina matchter all den informatioen finns på inlogget man får när man registerar sig. Om man inte kan spela den utsatta tiden måste man tillsammans med sin motståndare komma överens om en ny tid som man då får betala själv. \nFör intresseanmälan eller frågor kontakta: eric.johansson@orebrotk.se \nSpelschema \nLycka till! \nÖrebro TK
URL:https://orebrotk.se/evenemang/tennisligan/2024-03-26/
CATEGORIES:Tennis
END:VEVENT
END:VCALENDAR