BEGIN:VCALENDAR
VERSION:2.0
PRODID:-//Örebro TK - ECPv6.13.2.1//NONSGML v1.0//EN
CALSCALE:GREGORIAN
METHOD:PUBLISH
X-ORIGINAL-URL:https://orebrotk.se
X-WR-CALDESC:Händelser för Örebro TK
REFRESH-INTERVAL;VALUE=DURATION:PT1H
X-Robots-Tag:noindex
X-PUBLISHED-TTL:PT1H
BEGIN:VTIMEZONE
TZID:Europe/Stockholm
BEGIN:DAYLIGHT
TZOFFSETFROM:+0100
TZOFFSETTO:+0200
TZNAME:CEST
DTSTART:20240331T010000
END:DAYLIGHT
BEGIN:STANDARD
TZOFFSETFROM:+0200
TZOFFSETTO:+0100
TZNAME:CET
DTSTART:20241027T010000
END:STANDARD
END:VTIMEZONE
BEGIN:VEVENT
DTSTART;VALUE=DATE:20240614
DTEND;VALUE=DATE:20240617
DTSTAMP:20260420T155108
CREATED:20240527T160151Z
LAST-MODIFIED:20240527T160151Z
UID:10000114-1718323200-1718582399@orebrotk.se
SUMMARY:KM Tennis
DESCRIPTION:https://svtf.tournamentsoftware.com/tournament/223057F1-5B5C-4011-BD89-5F4D62C6518B
URL:https://orebrotk.se/evenemang/km-tennis/
CATEGORIES:Tennis
END:VEVENT
BEGIN:VEVENT
DTSTART;TZID=Europe/Stockholm:20240615T080000
DTEND;TZID=Europe/Stockholm:20240615T170000
DTSTAMP:20260420T155108
CREATED:20240407T233430Z
LAST-MODIFIED:20240408T001420Z
UID:10000092-1718438400-1718470800@orebrotk.se
SUMMARY:Rejmes Padel Open
DESCRIPTION:Rejmes Padel Open 
URL:https://orebrotk.se/evenemang/rejmes-padel-open/2024-06-15/
CATEGORIES:Padel
END:VEVENT
BEGIN:VEVENT
DTSTART;TZID=Europe/Stockholm:20240616T080000
DTEND;TZID=Europe/Stockholm:20240616T170000
DTSTAMP:20260420T155108
CREATED:20240407T233430Z
LAST-MODIFIED:20240408T001420Z
UID:10000093-1718524800-1718557200@orebrotk.se
SUMMARY:Rejmes Padel Open
DESCRIPTION:Rejmes Padel Open 
URL:https://orebrotk.se/evenemang/rejmes-padel-open/2024-06-16/
CATEGORIES:Padel
END:VEVENT
BEGIN:VEVENT
DTSTART;VALUE=DATE:20240617
DTEND;VALUE=DATE:20240621
DTSTAMP:20260420T155108
CREATED:20240527T160436Z
LAST-MODIFIED:20240527T160436Z
UID:10000116-1718582400-1718927999@orebrotk.se
SUMMARY:Summer Tennis
DESCRIPTION:
URL:https://orebrotk.se/evenemang/summer-tennis/
CATEGORIES:Tennis
END:VEVENT
BEGIN:VEVENT
DTSTART;TZID=Europe/Stockholm:20240617T090000
DTEND;TZID=Europe/Stockholm:20240617T160000
DTSTAMP:20260420T155108
CREATED:20240408T002639Z
LAST-MODIFIED:20240408T002639Z
UID:10000104-1718614800-1718640000@orebrotk.se
SUMMARY:Summer Padel Barn/Ungdom v 25
DESCRIPTION:Intensivkurser i padel för barn och ungdomar födda 2007-2018. Kurserna hålls måndag-torsdag (4 dagar). \nAnmälan
URL:https://orebrotk.se/evenemang/summer-padel-barn-ungdom-v-25/2024-06-17/
CATEGORIES:Padel
END:VEVENT
BEGIN:VEVENT
DTSTART;TZID=Europe/Stockholm:20240617T170000
DTEND;TZID=Europe/Stockholm:20240617T210000
DTSTAMP:20260420T155108
CREATED:20240407T235806Z
LAST-MODIFIED:20240408T001945Z
UID:10000090-1718643600-1718658000@orebrotk.se
SUMMARY:Summer Padel Vuxen v25
DESCRIPTION:Intensivkurser i padel för vuxna (18 år och äldre). Kurserna hålls måndag-torsdag (4 dagar). \nAnmälan
URL:https://orebrotk.se/evenemang/summer-padel-vuxen-v25/2024-06-17/
CATEGORIES:Padel
END:VEVENT
BEGIN:VEVENT
DTSTART;TZID=Europe/Stockholm:20240618T090000
DTEND;TZID=Europe/Stockholm:20240618T160000
DTSTAMP:20260420T155108
CREATED:20240408T002639Z
LAST-MODIFIED:20240408T002639Z
UID:10000105-1718701200-1718726400@orebrotk.se
SUMMARY:Summer Padel Barn/Ungdom v 25
DESCRIPTION:Intensivkurser i padel för barn och ungdomar födda 2007-2018. Kurserna hålls måndag-torsdag (4 dagar). \nAnmälan
URL:https://orebrotk.se/evenemang/summer-padel-barn-ungdom-v-25/2024-06-18/
CATEGORIES:Padel
END:VEVENT
BEGIN:VEVENT
DTSTART;TZID=Europe/Stockholm:20240618T170000
DTEND;TZID=Europe/Stockholm:20240618T210000
DTSTAMP:20260420T155108
CREATED:20240407T235806Z
LAST-MODIFIED:20240408T001945Z
UID:10000097-1718730000-1718744400@orebrotk.se
SUMMARY:Summer Padel Vuxen v25
DESCRIPTION:Intensivkurser i padel för vuxna (18 år och äldre). Kurserna hålls måndag-torsdag (4 dagar). \nAnmälan
URL:https://orebrotk.se/evenemang/summer-padel-vuxen-v25/2024-06-18/
CATEGORIES:Padel
END:VEVENT
BEGIN:VEVENT
DTSTART;TZID=Europe/Stockholm:20240619T090000
DTEND;TZID=Europe/Stockholm:20240619T160000
DTSTAMP:20260420T155108
CREATED:20240408T002639Z
LAST-MODIFIED:20240408T002639Z
UID:10000106-1718787600-1718812800@orebrotk.se
SUMMARY:Summer Padel Barn/Ungdom v 25
DESCRIPTION:Intensivkurser i padel för barn och ungdomar födda 2007-2018. Kurserna hålls måndag-torsdag (4 dagar). \nAnmälan
URL:https://orebrotk.se/evenemang/summer-padel-barn-ungdom-v-25/2024-06-19/
CATEGORIES:Padel
END:VEVENT
BEGIN:VEVENT
DTSTART;TZID=Europe/Stockholm:20240619T170000
DTEND;TZID=Europe/Stockholm:20240619T210000
DTSTAMP:20260420T155108
CREATED:20240407T235806Z
LAST-MODIFIED:20240408T001945Z
UID:10000098-1718816400-1718830800@orebrotk.se
SUMMARY:Summer Padel Vuxen v25
DESCRIPTION:Intensivkurser i padel för vuxna (18 år och äldre). Kurserna hålls måndag-torsdag (4 dagar). \nAnmälan
URL:https://orebrotk.se/evenemang/summer-padel-vuxen-v25/2024-06-19/
CATEGORIES:Padel
END:VEVENT
BEGIN:VEVENT
DTSTART;TZID=Europe/Stockholm:20240620T090000
DTEND;TZID=Europe/Stockholm:20240620T160000
DTSTAMP:20260420T155108
CREATED:20240408T002639Z
LAST-MODIFIED:20240408T002639Z
UID:10000107-1718874000-1718899200@orebrotk.se
SUMMARY:Summer Padel Barn/Ungdom v 25
DESCRIPTION:Intensivkurser i padel för barn och ungdomar födda 2007-2018. Kurserna hålls måndag-torsdag (4 dagar). \nAnmälan
URL:https://orebrotk.se/evenemang/summer-padel-barn-ungdom-v-25/2024-06-20/
CATEGORIES:Padel
END:VEVENT
BEGIN:VEVENT
DTSTART;TZID=Europe/Stockholm:20240620T170000
DTEND;TZID=Europe/Stockholm:20240620T210000
DTSTAMP:20260420T155108
CREATED:20240407T235806Z
LAST-MODIFIED:20240408T001945Z
UID:10000099-1718902800-1718917200@orebrotk.se
SUMMARY:Summer Padel Vuxen v25
DESCRIPTION:Intensivkurser i padel för vuxna (18 år och äldre). Kurserna hålls måndag-torsdag (4 dagar). \nAnmälan
URL:https://orebrotk.se/evenemang/summer-padel-vuxen-v25/2024-06-20/
CATEGORIES:Padel
END:VEVENT
BEGIN:VEVENT
DTSTART;VALUE=DATE:20240624
DTEND;VALUE=DATE:20240628
DTSTAMP:20260420T155108
CREATED:20240527T160811Z
LAST-MODIFIED:20240527T160811Z
UID:10000117-1719187200-1719532799@orebrotk.se
SUMMARY:Summer Tennis
DESCRIPTION:http://www.orebrotk.se
URL:https://orebrotk.se/evenemang/summer-tennis-2/
CATEGORIES:Tennis
END:VEVENT
BEGIN:VEVENT
DTSTART;TZID=Europe/Stockholm:20240624T090000
DTEND;TZID=Europe/Stockholm:20240624T160000
DTSTAMP:20260420T155108
CREATED:20240408T003101Z
LAST-MODIFIED:20240408T003101Z
UID:10000108-1719219600-1719244800@orebrotk.se
SUMMARY:Summer Padel Barn/Ungdom v 26
DESCRIPTION:Intensivkurser i padel för barn och ungdomar födda 2007-2018. Kurserna hålls måndag-torsdag (4 dagar). \nAnmälan
URL:https://orebrotk.se/evenemang/summer-padel-barn-ungdom-v-26/2024-06-24/
CATEGORIES:Padel
END:VEVENT
BEGIN:VEVENT
DTSTART;TZID=Europe/Stockholm:20240624T170000
DTEND;TZID=Europe/Stockholm:20240624T210000
DTSTAMP:20260420T155108
CREATED:20240408T000113Z
LAST-MODIFIED:20240408T002206Z
UID:10000100-1719248400-1719262800@orebrotk.se
SUMMARY:Summer Padel Vuxen v26
DESCRIPTION:Intensivkurser i padel för vuxna (18 år och äldre). Kurserna hålls måndag-torsdag (4 dagar). \nAnmälan
URL:https://orebrotk.se/evenemang/summer-padel-vuxen-v26/2024-06-24/
CATEGORIES:Padel
END:VEVENT
BEGIN:VEVENT
DTSTART;TZID=Europe/Stockholm:20240625T090000
DTEND;TZID=Europe/Stockholm:20240625T160000
DTSTAMP:20260420T155108
CREATED:20240408T003101Z
LAST-MODIFIED:20240408T003101Z
UID:10000109-1719306000-1719331200@orebrotk.se
SUMMARY:Summer Padel Barn/Ungdom v 26
DESCRIPTION:Intensivkurser i padel för barn och ungdomar födda 2007-2018. Kurserna hålls måndag-torsdag (4 dagar). \nAnmälan
URL:https://orebrotk.se/evenemang/summer-padel-barn-ungdom-v-26/2024-06-25/
CATEGORIES:Padel
END:VEVENT
BEGIN:VEVENT
DTSTART;TZID=Europe/Stockholm:20240625T170000
DTEND;TZID=Europe/Stockholm:20240625T210000
DTSTAMP:20260420T155108
CREATED:20240408T000113Z
LAST-MODIFIED:20240408T002206Z
UID:10000101-1719334800-1719349200@orebrotk.se
SUMMARY:Summer Padel Vuxen v26
DESCRIPTION:Intensivkurser i padel för vuxna (18 år och äldre). Kurserna hålls måndag-torsdag (4 dagar). \nAnmälan
URL:https://orebrotk.se/evenemang/summer-padel-vuxen-v26/2024-06-25/
CATEGORIES:Padel
END:VEVENT
BEGIN:VEVENT
DTSTART;TZID=Europe/Stockholm:20240626T090000
DTEND;TZID=Europe/Stockholm:20240626T160000
DTSTAMP:20260420T155108
CREATED:20240408T003101Z
LAST-MODIFIED:20240408T003101Z
UID:10000110-1719392400-1719417600@orebrotk.se
SUMMARY:Summer Padel Barn/Ungdom v 26
DESCRIPTION:Intensivkurser i padel för barn och ungdomar födda 2007-2018. Kurserna hålls måndag-torsdag (4 dagar). \nAnmälan
URL:https://orebrotk.se/evenemang/summer-padel-barn-ungdom-v-26/2024-06-26/
CATEGORIES:Padel
END:VEVENT
BEGIN:VEVENT
DTSTART;TZID=Europe/Stockholm:20240626T170000
DTEND;TZID=Europe/Stockholm:20240626T210000
DTSTAMP:20260420T155108
CREATED:20240408T000113Z
LAST-MODIFIED:20240408T002206Z
UID:10000102-1719421200-1719435600@orebrotk.se
SUMMARY:Summer Padel Vuxen v26
DESCRIPTION:Intensivkurser i padel för vuxna (18 år och äldre). Kurserna hålls måndag-torsdag (4 dagar). \nAnmälan
URL:https://orebrotk.se/evenemang/summer-padel-vuxen-v26/2024-06-26/
CATEGORIES:Padel
END:VEVENT
BEGIN:VEVENT
DTSTART;TZID=Europe/Stockholm:20240627T090000
DTEND;TZID=Europe/Stockholm:20240627T160000
DTSTAMP:20260420T155108
CREATED:20240408T003101Z
LAST-MODIFIED:20240408T003101Z
UID:10000111-1719478800-1719504000@orebrotk.se
SUMMARY:Summer Padel Barn/Ungdom v 26
DESCRIPTION:Intensivkurser i padel för barn och ungdomar födda 2007-2018. Kurserna hålls måndag-torsdag (4 dagar). \nAnmälan
URL:https://orebrotk.se/evenemang/summer-padel-barn-ungdom-v-26/2024-06-27/
CATEGORIES:Padel
END:VEVENT
BEGIN:VEVENT
DTSTART;TZID=Europe/Stockholm:20240627T170000
DTEND;TZID=Europe/Stockholm:20240627T210000
DTSTAMP:20260420T155108
CREATED:20240408T000113Z
LAST-MODIFIED:20240408T002206Z
UID:10000103-1719507600-1719522000@orebrotk.se
SUMMARY:Summer Padel Vuxen v26
DESCRIPTION:Intensivkurser i padel för vuxna (18 år och äldre). Kurserna hålls måndag-torsdag (4 dagar). \nAnmälan
URL:https://orebrotk.se/evenemang/summer-padel-vuxen-v26/2024-06-27/
CATEGORIES:Padel
END:VEVENT
BEGIN:VEVENT
DTSTART;TZID=Europe/Stockholm:20240809T150000
DTEND;TZID=Europe/Stockholm:20240809T170000
DTSTAMP:20260420T155108
CREATED:20240701T082340Z
LAST-MODIFIED:20240701T082340Z
UID:10000120-1723215600-1723222800@orebrotk.se
SUMMARY:TennisFestival 9 aug
DESCRIPTION:kl. 15-17  Ökna Vivalla \nKom och prova på tennis och andra roliga aktiviteter
URL:https://orebrotk.se/evenemang/tennisfestival-9-aug/
CATEGORIES:Tennis
ATTACH;FMTTYPE=image/png:https://orebrotk.se/wp-content/uploads/2024/06/TENNISFESTIVALEN.png
END:VEVENT
BEGIN:VEVENT
DTSTART;TZID=Europe/Stockholm:20240809T183000
DTEND;TZID=Europe/Stockholm:20240809T220000
DTSTAMP:20260420T155108
CREATED:20240701T080555Z
LAST-MODIFIED:20240701T080555Z
UID:10000119-1723228200-1723240800@orebrotk.se
SUMMARY:Fredagsdisco 9/8
DESCRIPTION:TennisFestival
URL:https://orebrotk.se/evenemang/fredagsdisco-9-8/
CATEGORIES:Tennis
END:VEVENT
BEGIN:VEVENT
DTSTART;TZID=Europe/Stockholm:20240810T130000
DTEND;TZID=Europe/Stockholm:20240810T160000
DTSTAMP:20260420T155108
CREATED:20240701T082740Z
LAST-MODIFIED:20240701T082740Z
UID:10000121-1723294800-1723305600@orebrotk.se
SUMMARY:TennisFestival 10 aug
DESCRIPTION:kl. 13- 16 i Stadsparken \nKom och spela tennis och massa andra roliga aktiviteter
URL:https://orebrotk.se/evenemang/tennisfestival-10-aug/
ATTACH;FMTTYPE=image/png:https://orebrotk.se/wp-content/uploads/2024/06/TENNISFESTIVALEN.png
END:VEVENT
BEGIN:VEVENT
DTSTART;TZID=Europe/Stockholm:20240914T150000
DTEND;TZID=Europe/Stockholm:20240914T180000
DTSTAMP:20260420T155108
CREATED:20240910T105943Z
LAST-MODIFIED:20240910T105943Z
UID:10000123-1726326000-1726336800@orebrotk.se
SUMMARY:Seriematch H65 mot Hallstahammar i Backahallen
DESCRIPTION:
URL:https://orebrotk.se/evenemang/seriematch-h65-mot-hallstahammar-i-backahallen/
LOCATION:Backahallen
END:VEVENT
BEGIN:VEVENT
DTSTART;VALUE=DATE:20241004
DTEND;VALUE=DATE:20241007
DTSTAMP:20260420T155108
CREATED:20240918T120113Z
LAST-MODIFIED:20240927T073708Z
UID:10000125-1728000000-1728259199@orebrotk.se
SUMMARY:Bosse Larsson Cup i Backahallen
DESCRIPTION:Juniortävling i Backahallen\, läs mer här –>
URL:https://orebrotk.se/evenemang/bosse-larsson-cup/
CATEGORIES:Tennis
END:VEVENT
BEGIN:VEVENT
DTSTART;VALUE=DATE:20241011
DTEND;VALUE=DATE:20241014
DTSTAMP:20260420T155108
CREATED:20241001T134800Z
LAST-MODIFIED:20241001T134922Z
UID:10000146-1728604800-1728863999@orebrotk.se
SUMMARY:Örebro Padel Open
DESCRIPTION:Sanktionerad padel-tävling. Klicka här för anmälan & info
URL:https://orebrotk.se/evenemang/orebro-padel-open/
CATEGORIES:Padel
END:VEVENT
BEGIN:VEVENT
DTSTART;TZID=Europe/Stockholm:20241012T100000
DTEND;TZID=Europe/Stockholm:20241012T140000
DTSTAMP:20260420T155108
CREATED:20240927T071341Z
LAST-MODIFIED:20240927T071636Z
UID:10000126-1728727200-1728741600@orebrotk.se
SUMMARY:Seriespel Herrar 45 mot Karlstad i Backahallen
DESCRIPTION:
URL:https://orebrotk.se/evenemang/seriespel-herrar-45-mot-karlstad-i-backahallen/
CATEGORIES:Tennis
END:VEVENT
BEGIN:VEVENT
DTSTART;TZID=Europe/Stockholm:20241012T120000
DTEND;TZID=Europe/Stockholm:20241012T150000
DTSTAMP:20260420T155108
CREATED:20240927T071454Z
LAST-MODIFIED:20240927T071547Z
UID:10000127-1728734400-1728745200@orebrotk.se
SUMMARY:Seriespel Herrar 55 mot Domnarvets TK i Backahallen
DESCRIPTION:
URL:https://orebrotk.se/evenemang/seriespel-herrar-55-mot-domnarvets-tk-i-backahallen/
CATEGORIES:Tennis
END:VEVENT
BEGIN:VEVENT
DTSTART;TZID=Europe/Stockholm:20241012T120000
DTEND;TZID=Europe/Stockholm:20241012T150000
DTSTAMP:20260420T155108
CREATED:20241001T075323Z
LAST-MODIFIED:20241001T075323Z
UID:10000144-1728734400-1728745200@orebrotk.se
SUMMARY:STÄDDAG
DESCRIPTION:Vi ska stänga utebanorna i Backahallen\, kom gärna ner och hjälp till. Mer info under Nyheter.
URL:https://orebrotk.se/evenemang/staddag/
END:VEVENT
END:VCALENDAR