BEGIN:VCALENDAR
VERSION:2.0
PRODID:-//Örebro TK - ECPv6.13.2.1//NONSGML v1.0//EN
CALSCALE:GREGORIAN
METHOD:PUBLISH
X-ORIGINAL-URL:https://orebrotk.se
X-WR-CALDESC:Händelser för Örebro TK
REFRESH-INTERVAL;VALUE=DURATION:PT1H
X-Robots-Tag:noindex
X-PUBLISHED-TTL:PT1H
BEGIN:VTIMEZONE
TZID:Europe/Stockholm
BEGIN:DAYLIGHT
TZOFFSETFROM:+0100
TZOFFSETTO:+0200
TZNAME:CEST
DTSTART:20240331T010000
END:DAYLIGHT
BEGIN:STANDARD
TZOFFSETFROM:+0200
TZOFFSETTO:+0100
TZNAME:CET
DTSTART:20241027T010000
END:STANDARD
END:VTIMEZONE
BEGIN:VEVENT
DTSTART;TZID=Europe/Stockholm:20240403T080000
DTEND;TZID=Europe/Stockholm:20240403T170000
DTSTAMP:20260421T035907
CREATED:20240325T154604Z
LAST-MODIFIED:20240325T154604Z
UID:10000054-1712131200-1712163600@orebrotk.se
SUMMARY:Padelligan
DESCRIPTION:Padelligan är ett gruppspel. Varje lag spelar en 3-setsmatch i veckan på förbokad tid i Backahallen. Matcherna spelas tisdag eller onsdag kl. 19.00-22.00. Tiderna lottas och kommer varieras. \nAnmälan
URL:https://orebrotk.se/evenemang/padelligan/2024-04-03/1/
CATEGORIES:Padel
END:VEVENT
BEGIN:VEVENT
DTSTART;TZID=Europe/Stockholm:20240403T100000
DTEND;TZID=Europe/Stockholm:20240403T110000
DTSTAMP:20260421T035907
CREATED:20240325T160448Z
LAST-MODIFIED:20240325T160448Z
UID:10000066-1712138400-1712142000@orebrotk.se
SUMMARY:Seniorpadel 60+
DESCRIPTION:Speciellt för våra äldre spelare bjuder vi in till Seniorpadel där vi tränar och/eller spelar match. En av klubbens tränare håller i passet som är ca 1 timma. Därefter bjuds det på fika i Backahallens Café. \nAnmälan
URL:https://orebrotk.se/evenemang/seniorpadel-60/2024-04-03/
CATEGORIES:Padel
END:VEVENT
BEGIN:VEVENT
DTSTART;TZID=Europe/Stockholm:20240403T183000
DTEND;TZID=Europe/Stockholm:20240403T193000
DTSTAMP:20260421T035907
CREATED:20240214T123936Z
LAST-MODIFIED:20240214T123936Z
UID:10000037-1712169000-1712172600@orebrotk.se
SUMMARY:Årsmöte ÖTK
DESCRIPTION:Årsmöte
URL:https://orebrotk.se/evenemang/arsmote-otk/
END:VEVENT
BEGIN:VEVENT
DTSTART;TZID=Europe/Stockholm:20240403T190000
DTEND;TZID=Europe/Stockholm:20240403T220000
DTSTAMP:20260421T035907
CREATED:20240325T154604Z
LAST-MODIFIED:20240325T154604Z
UID:10000055-1712170800-1712181600@orebrotk.se
SUMMARY:Padelligan
DESCRIPTION:Padelligan är ett gruppspel. Varje lag spelar en 3-setsmatch i veckan på förbokad tid i Backahallen. Matcherna spelas tisdag eller onsdag kl. 19.00-22.00. Tiderna lottas och kommer varieras. \nAnmälan
URL:https://orebrotk.se/evenemang/padelligan/2024-04-03/2/
CATEGORIES:Padel
END:VEVENT
BEGIN:VEVENT
DTSTART;TZID=Europe/Stockholm:20240407T150000
DTEND;TZID=Europe/Stockholm:20240407T180000
DTSTAMP:20260421T035907
CREATED:20240325T161805Z
LAST-MODIFIED:20240325T161805Z
UID:10000077-1712502000-1712512800@orebrotk.se
SUMMARY:Damligan Americano
DESCRIPTION:Damligan Americano har 4 divisioner\, 8 spelare i varje division. Matcherna spelas som ”Americano” där man tävlar individuellt med olika partners inom sin division. \nAnmälan
URL:https://orebrotk.se/evenemang/damligan-americano/2024-04-07/
CATEGORIES:Padel
END:VEVENT
BEGIN:VEVENT
DTSTART;TZID=Europe/Stockholm:20240409T183000
DTEND;TZID=Europe/Stockholm:20240409T215000
DTSTAMP:20260421T035907
CREATED:20240109T121317Z
LAST-MODIFIED:20240109T121317Z
UID:10000018-1712687400-1712699400@orebrotk.se
SUMMARY:Tennisligan
DESCRIPTION:Tennisligan\nGruppelet är perfekt för dig som spelar tennis på motionsnivå och vill spela matcher. Matcherna spelas i 50 minuter och efter matchen registrerar man i resultatet via sitt inlogg som man får när man börjar i gruppspelet. Grupperna består av 4-5 spelare och man flyttas upp och ner i de olika grupperna\, man möter alla i sin grupp en gång. Man tar själv anvar för vilka tider man ska spela sina matchter all den informatioen finns på inlogget man får när man registerar sig. Om man inte kan spela den utsatta tiden måste man tillsammans med sin motståndare komma överens om en ny tid som man då får betala själv. \nFör intresseanmälan eller frågor kontakta: eric.johansson@orebrotk.se \nSpelschema \nLycka till! \nÖrebro TK
URL:https://orebrotk.se/evenemang/tennisligan/2024-04-09/
CATEGORIES:Tennis
END:VEVENT
BEGIN:VEVENT
DTSTART;TZID=Europe/Stockholm:20240409T190000
DTEND;TZID=Europe/Stockholm:20240409T220000
DTSTAMP:20260421T035907
CREATED:20240325T144426Z
LAST-MODIFIED:20240325T145602Z
UID:10000044-1712689200-1712700000@orebrotk.se
SUMMARY:Padelligan
DESCRIPTION:Padelligan är ett gruppspel. Varje lag spelar en 3-setsmatch i veckan på förbokad tid i Backahallen. Matcherna spelas tisdag eller onsdag kl. 19.00-22.00. Tiderna lottas och kommer varieras. \nAnmälan
URL:https://orebrotk.se/evenemang/ligaspel/2024-04-09/
CATEGORIES:Padel
END:VEVENT
BEGIN:VEVENT
DTSTART;TZID=Europe/Stockholm:20240410T100000
DTEND;TZID=Europe/Stockholm:20240410T110000
DTSTAMP:20260421T035907
CREATED:20240325T160448Z
LAST-MODIFIED:20240325T160448Z
UID:10000067-1712743200-1712746800@orebrotk.se
SUMMARY:Seniorpadel 60+
DESCRIPTION:Speciellt för våra äldre spelare bjuder vi in till Seniorpadel där vi tränar och/eller spelar match. En av klubbens tränare håller i passet som är ca 1 timma. Därefter bjuds det på fika i Backahallens Café. \nAnmälan
URL:https://orebrotk.se/evenemang/seniorpadel-60/2024-04-10/
CATEGORIES:Padel
END:VEVENT
BEGIN:VEVENT
DTSTART;TZID=Europe/Stockholm:20240410T190000
DTEND;TZID=Europe/Stockholm:20240410T220000
DTSTAMP:20260421T035907
CREATED:20240325T154604Z
LAST-MODIFIED:20240325T154604Z
UID:10000056-1712775600-1712786400@orebrotk.se
SUMMARY:Padelligan
DESCRIPTION:Padelligan är ett gruppspel. Varje lag spelar en 3-setsmatch i veckan på förbokad tid i Backahallen. Matcherna spelas tisdag eller onsdag kl. 19.00-22.00. Tiderna lottas och kommer varieras. \nAnmälan
URL:https://orebrotk.se/evenemang/padelligan/2024-04-10/
CATEGORIES:Padel
END:VEVENT
BEGIN:VEVENT
DTSTART;TZID=Europe/Stockholm:20240413T120000
DTEND;TZID=Europe/Stockholm:20240413T160000
DTSTAMP:20260421T035907
CREATED:20240403T083923Z
LAST-MODIFIED:20240403T083923Z
UID:10000087-1713009600-1713024000@orebrotk.se
SUMMARY:Städdag 13/4 kl.12-16
DESCRIPTION:Nu kommer chansen att få halva ”Städavgiften” återbetald \nDen 6 april skulle vi ha haft städdag\, men pga. snön har vi beslutat att skjuta fram städdagen en vecka. Vi hoppas då att snön är borta så vi kan förbereda våra fina utomhusbanor för både träning och tävling framöver \nVar med och hjälp till:\nLördagen 13 april kl. 12.00-ca.16.00 \nSamling vid Backahallens utomhusbanor (kommer även behövas arbete kring SJ banorna) \nObservera att man för att delta behöver komma kl. 12 för att underlätta uppdelningen av arbetet. \nMedtag kratta och skottkärra om du har. \nVi ses! \nMed vänlig hälsning\nÖrebro TK
URL:https://orebrotk.se/evenemang/staddag-13-4-kl-12-16/
CATEGORIES:Tennis
END:VEVENT
BEGIN:VEVENT
DTSTART;TZID=Europe/Stockholm:20240414T150000
DTEND;TZID=Europe/Stockholm:20240414T180000
DTSTAMP:20260421T035907
CREATED:20240325T161805Z
LAST-MODIFIED:20240325T161805Z
UID:10000078-1713106800-1713117600@orebrotk.se
SUMMARY:Damligan Americano
DESCRIPTION:Damligan Americano har 4 divisioner\, 8 spelare i varje division. Matcherna spelas som ”Americano” där man tävlar individuellt med olika partners inom sin division. \nAnmälan
URL:https://orebrotk.se/evenemang/damligan-americano/2024-04-14/
CATEGORIES:Padel
END:VEVENT
BEGIN:VEVENT
DTSTART;TZID=Europe/Stockholm:20240416T183000
DTEND;TZID=Europe/Stockholm:20240416T215000
DTSTAMP:20260421T035907
CREATED:20240109T121317Z
LAST-MODIFIED:20240109T121317Z
UID:10000019-1713292200-1713304200@orebrotk.se
SUMMARY:Tennisligan
DESCRIPTION:Tennisligan\nGruppelet är perfekt för dig som spelar tennis på motionsnivå och vill spela matcher. Matcherna spelas i 50 minuter och efter matchen registrerar man i resultatet via sitt inlogg som man får när man börjar i gruppspelet. Grupperna består av 4-5 spelare och man flyttas upp och ner i de olika grupperna\, man möter alla i sin grupp en gång. Man tar själv anvar för vilka tider man ska spela sina matchter all den informatioen finns på inlogget man får när man registerar sig. Om man inte kan spela den utsatta tiden måste man tillsammans med sin motståndare komma överens om en ny tid som man då får betala själv. \nFör intresseanmälan eller frågor kontakta: eric.johansson@orebrotk.se \nSpelschema \nLycka till! \nÖrebro TK
URL:https://orebrotk.se/evenemang/tennisligan/2024-04-16/
CATEGORIES:Tennis
END:VEVENT
BEGIN:VEVENT
DTSTART;TZID=Europe/Stockholm:20240416T190000
DTEND;TZID=Europe/Stockholm:20240416T220000
DTSTAMP:20260421T035907
CREATED:20240325T144426Z
LAST-MODIFIED:20240325T145602Z
UID:10000045-1713294000-1713304800@orebrotk.se
SUMMARY:Padelligan
DESCRIPTION:Padelligan är ett gruppspel. Varje lag spelar en 3-setsmatch i veckan på förbokad tid i Backahallen. Matcherna spelas tisdag eller onsdag kl. 19.00-22.00. Tiderna lottas och kommer varieras. \nAnmälan
URL:https://orebrotk.se/evenemang/ligaspel/2024-04-16/
CATEGORIES:Padel
END:VEVENT
BEGIN:VEVENT
DTSTART;TZID=Europe/Stockholm:20240417T100000
DTEND;TZID=Europe/Stockholm:20240417T110000
DTSTAMP:20260421T035907
CREATED:20240325T160448Z
LAST-MODIFIED:20240325T160448Z
UID:10000068-1713348000-1713351600@orebrotk.se
SUMMARY:Seniorpadel 60+
DESCRIPTION:Speciellt för våra äldre spelare bjuder vi in till Seniorpadel där vi tränar och/eller spelar match. En av klubbens tränare håller i passet som är ca 1 timma. Därefter bjuds det på fika i Backahallens Café. \nAnmälan
URL:https://orebrotk.se/evenemang/seniorpadel-60/2024-04-17/
CATEGORIES:Padel
END:VEVENT
BEGIN:VEVENT
DTSTART;TZID=Europe/Stockholm:20240417T190000
DTEND;TZID=Europe/Stockholm:20240417T220000
DTSTAMP:20260421T035907
CREATED:20240325T154604Z
LAST-MODIFIED:20240325T154604Z
UID:10000057-1713380400-1713391200@orebrotk.se
SUMMARY:Padelligan
DESCRIPTION:Padelligan är ett gruppspel. Varje lag spelar en 3-setsmatch i veckan på förbokad tid i Backahallen. Matcherna spelas tisdag eller onsdag kl. 19.00-22.00. Tiderna lottas och kommer varieras. \nAnmälan
URL:https://orebrotk.se/evenemang/padelligan/2024-04-17/
CATEGORIES:Padel
END:VEVENT
BEGIN:VEVENT
DTSTART;TZID=Europe/Stockholm:20240421T150000
DTEND;TZID=Europe/Stockholm:20240421T180000
DTSTAMP:20260421T035907
CREATED:20240325T161805Z
LAST-MODIFIED:20240325T161805Z
UID:10000079-1713711600-1713722400@orebrotk.se
SUMMARY:Damligan Americano
DESCRIPTION:Damligan Americano har 4 divisioner\, 8 spelare i varje division. Matcherna spelas som ”Americano” där man tävlar individuellt med olika partners inom sin division. \nAnmälan
URL:https://orebrotk.se/evenemang/damligan-americano/2024-04-21/
CATEGORIES:Padel
END:VEVENT
BEGIN:VEVENT
DTSTART;TZID=Europe/Stockholm:20240423T183000
DTEND;TZID=Europe/Stockholm:20240423T215000
DTSTAMP:20260421T035907
CREATED:20240109T121317Z
LAST-MODIFIED:20240109T121317Z
UID:10000020-1713897000-1713909000@orebrotk.se
SUMMARY:Tennisligan
DESCRIPTION:Tennisligan\nGruppelet är perfekt för dig som spelar tennis på motionsnivå och vill spela matcher. Matcherna spelas i 50 minuter och efter matchen registrerar man i resultatet via sitt inlogg som man får när man börjar i gruppspelet. Grupperna består av 4-5 spelare och man flyttas upp och ner i de olika grupperna\, man möter alla i sin grupp en gång. Man tar själv anvar för vilka tider man ska spela sina matchter all den informatioen finns på inlogget man får när man registerar sig. Om man inte kan spela den utsatta tiden måste man tillsammans med sin motståndare komma överens om en ny tid som man då får betala själv. \nFör intresseanmälan eller frågor kontakta: eric.johansson@orebrotk.se \nSpelschema \nLycka till! \nÖrebro TK
URL:https://orebrotk.se/evenemang/tennisligan/2024-04-23/
CATEGORIES:Tennis
END:VEVENT
BEGIN:VEVENT
DTSTART;TZID=Europe/Stockholm:20240423T190000
DTEND;TZID=Europe/Stockholm:20240423T220000
DTSTAMP:20260421T035907
CREATED:20240325T144426Z
LAST-MODIFIED:20240325T145602Z
UID:10000046-1713898800-1713909600@orebrotk.se
SUMMARY:Padelligan
DESCRIPTION:Padelligan är ett gruppspel. Varje lag spelar en 3-setsmatch i veckan på förbokad tid i Backahallen. Matcherna spelas tisdag eller onsdag kl. 19.00-22.00. Tiderna lottas och kommer varieras. \nAnmälan
URL:https://orebrotk.se/evenemang/ligaspel/2024-04-23/
CATEGORIES:Padel
END:VEVENT
BEGIN:VEVENT
DTSTART;TZID=Europe/Stockholm:20240424T100000
DTEND;TZID=Europe/Stockholm:20240424T110000
DTSTAMP:20260421T035907
CREATED:20240325T160448Z
LAST-MODIFIED:20240325T160448Z
UID:10000069-1713952800-1713956400@orebrotk.se
SUMMARY:Seniorpadel 60+
DESCRIPTION:Speciellt för våra äldre spelare bjuder vi in till Seniorpadel där vi tränar och/eller spelar match. En av klubbens tränare håller i passet som är ca 1 timma. Därefter bjuds det på fika i Backahallens Café. \nAnmälan
URL:https://orebrotk.se/evenemang/seniorpadel-60/2024-04-24/
CATEGORIES:Padel
END:VEVENT
BEGIN:VEVENT
DTSTART;TZID=Europe/Stockholm:20240424T190000
DTEND;TZID=Europe/Stockholm:20240424T220000
DTSTAMP:20260421T035907
CREATED:20240325T154604Z
LAST-MODIFIED:20240325T154604Z
UID:10000058-1713985200-1713996000@orebrotk.se
SUMMARY:Padelligan
DESCRIPTION:Padelligan är ett gruppspel. Varje lag spelar en 3-setsmatch i veckan på förbokad tid i Backahallen. Matcherna spelas tisdag eller onsdag kl. 19.00-22.00. Tiderna lottas och kommer varieras. \nAnmälan
URL:https://orebrotk.se/evenemang/padelligan/2024-04-24/
CATEGORIES:Padel
END:VEVENT
BEGIN:VEVENT
DTSTART;TZID=Europe/Stockholm:20240426T080000
DTEND;TZID=Europe/Stockholm:20240501T170000
DTSTAMP:20260421T035907
CREATED:20240110T120057Z
LAST-MODIFIED:20240110T120057Z
UID:10000029-1714118400-1714582800@orebrotk.se
SUMMARY:Mcdonalds Outdoor Cup
DESCRIPTION:Anmälan\, Lottning & Spelschema
URL:https://orebrotk.se/evenemang/mcdonalds-outdoor-cup/
CATEGORIES:Tennis
END:VEVENT
BEGIN:VEVENT
DTSTART;TZID=Europe/Stockholm:20240428T150000
DTEND;TZID=Europe/Stockholm:20240428T180000
DTSTAMP:20260421T035907
CREATED:20240325T161805Z
LAST-MODIFIED:20240325T161805Z
UID:10000080-1714316400-1714327200@orebrotk.se
SUMMARY:Damligan Americano
DESCRIPTION:Damligan Americano har 4 divisioner\, 8 spelare i varje division. Matcherna spelas som ”Americano” där man tävlar individuellt med olika partners inom sin division. \nAnmälan
URL:https://orebrotk.se/evenemang/damligan-americano/2024-04-28/
CATEGORIES:Padel
END:VEVENT
BEGIN:VEVENT
DTSTART;TZID=Europe/Stockholm:20240430T183000
DTEND;TZID=Europe/Stockholm:20240430T215000
DTSTAMP:20260421T035907
CREATED:20240109T121317Z
LAST-MODIFIED:20240109T121317Z
UID:10000021-1714501800-1714513800@orebrotk.se
SUMMARY:Tennisligan
DESCRIPTION:Tennisligan\nGruppelet är perfekt för dig som spelar tennis på motionsnivå och vill spela matcher. Matcherna spelas i 50 minuter och efter matchen registrerar man i resultatet via sitt inlogg som man får när man börjar i gruppspelet. Grupperna består av 4-5 spelare och man flyttas upp och ner i de olika grupperna\, man möter alla i sin grupp en gång. Man tar själv anvar för vilka tider man ska spela sina matchter all den informatioen finns på inlogget man får när man registerar sig. Om man inte kan spela den utsatta tiden måste man tillsammans med sin motståndare komma överens om en ny tid som man då får betala själv. \nFör intresseanmälan eller frågor kontakta: eric.johansson@orebrotk.se \nSpelschema \nLycka till! \nÖrebro TK
URL:https://orebrotk.se/evenemang/tennisligan/2024-04-30/
CATEGORIES:Tennis
END:VEVENT
BEGIN:VEVENT
DTSTART;TZID=Europe/Stockholm:20240430T190000
DTEND;TZID=Europe/Stockholm:20240430T220000
DTSTAMP:20260421T035907
CREATED:20240325T144426Z
LAST-MODIFIED:20240325T145602Z
UID:10000047-1714503600-1714514400@orebrotk.se
SUMMARY:Padelligan
DESCRIPTION:Padelligan är ett gruppspel. Varje lag spelar en 3-setsmatch i veckan på förbokad tid i Backahallen. Matcherna spelas tisdag eller onsdag kl. 19.00-22.00. Tiderna lottas och kommer varieras. \nAnmälan
URL:https://orebrotk.se/evenemang/ligaspel/2024-04-30/
CATEGORIES:Padel
END:VEVENT
BEGIN:VEVENT
DTSTART;TZID=Europe/Stockholm:20240501T100000
DTEND;TZID=Europe/Stockholm:20240501T110000
DTSTAMP:20260421T035907
CREATED:20240325T160448Z
LAST-MODIFIED:20240325T160448Z
UID:10000070-1714557600-1714561200@orebrotk.se
SUMMARY:Seniorpadel 60+
DESCRIPTION:Speciellt för våra äldre spelare bjuder vi in till Seniorpadel där vi tränar och/eller spelar match. En av klubbens tränare håller i passet som är ca 1 timma. Därefter bjuds det på fika i Backahallens Café. \nAnmälan
URL:https://orebrotk.se/evenemang/seniorpadel-60/2024-05-01/
CATEGORIES:Padel
END:VEVENT
BEGIN:VEVENT
DTSTART;TZID=Europe/Stockholm:20240501T190000
DTEND;TZID=Europe/Stockholm:20240501T220000
DTSTAMP:20260421T035907
CREATED:20240325T154604Z
LAST-MODIFIED:20240325T154604Z
UID:10000059-1714590000-1714600800@orebrotk.se
SUMMARY:Padelligan
DESCRIPTION:Padelligan är ett gruppspel. Varje lag spelar en 3-setsmatch i veckan på förbokad tid i Backahallen. Matcherna spelas tisdag eller onsdag kl. 19.00-22.00. Tiderna lottas och kommer varieras. \nAnmälan
URL:https://orebrotk.se/evenemang/padelligan/2024-05-01/
CATEGORIES:Padel
END:VEVENT
BEGIN:VEVENT
DTSTART;TZID=Europe/Stockholm:20240505T150000
DTEND;TZID=Europe/Stockholm:20240505T180000
DTSTAMP:20260421T035907
CREATED:20240325T161805Z
LAST-MODIFIED:20240325T161805Z
UID:10000081-1714921200-1714932000@orebrotk.se
SUMMARY:Damligan Americano
DESCRIPTION:Damligan Americano har 4 divisioner\, 8 spelare i varje division. Matcherna spelas som ”Americano” där man tävlar individuellt med olika partners inom sin division. \nAnmälan
URL:https://orebrotk.se/evenemang/damligan-americano/2024-05-05/
CATEGORIES:Padel
END:VEVENT
BEGIN:VEVENT
DTSTART;TZID=Europe/Stockholm:20240507T183000
DTEND;TZID=Europe/Stockholm:20240507T215000
DTSTAMP:20260421T035907
CREATED:20240109T121317Z
LAST-MODIFIED:20240109T121317Z
UID:10000022-1715106600-1715118600@orebrotk.se
SUMMARY:Tennisligan
DESCRIPTION:Tennisligan\nGruppelet är perfekt för dig som spelar tennis på motionsnivå och vill spela matcher. Matcherna spelas i 50 minuter och efter matchen registrerar man i resultatet via sitt inlogg som man får när man börjar i gruppspelet. Grupperna består av 4-5 spelare och man flyttas upp och ner i de olika grupperna\, man möter alla i sin grupp en gång. Man tar själv anvar för vilka tider man ska spela sina matchter all den informatioen finns på inlogget man får när man registerar sig. Om man inte kan spela den utsatta tiden måste man tillsammans med sin motståndare komma överens om en ny tid som man då får betala själv. \nFör intresseanmälan eller frågor kontakta: eric.johansson@orebrotk.se \nSpelschema \nLycka till! \nÖrebro TK
URL:https://orebrotk.se/evenemang/tennisligan/2024-05-07/
CATEGORIES:Tennis
END:VEVENT
BEGIN:VEVENT
DTSTART;TZID=Europe/Stockholm:20240507T190000
DTEND;TZID=Europe/Stockholm:20240507T220000
DTSTAMP:20260421T035907
CREATED:20240325T144426Z
LAST-MODIFIED:20240325T145602Z
UID:10000048-1715108400-1715119200@orebrotk.se
SUMMARY:Padelligan
DESCRIPTION:Padelligan är ett gruppspel. Varje lag spelar en 3-setsmatch i veckan på förbokad tid i Backahallen. Matcherna spelas tisdag eller onsdag kl. 19.00-22.00. Tiderna lottas och kommer varieras. \nAnmälan
URL:https://orebrotk.se/evenemang/ligaspel/2024-05-07/
CATEGORIES:Padel
END:VEVENT
BEGIN:VEVENT
DTSTART;TZID=Europe/Stockholm:20240508T100000
DTEND;TZID=Europe/Stockholm:20240508T110000
DTSTAMP:20260421T035907
CREATED:20240325T160448Z
LAST-MODIFIED:20240325T160448Z
UID:10000071-1715162400-1715166000@orebrotk.se
SUMMARY:Seniorpadel 60+
DESCRIPTION:Speciellt för våra äldre spelare bjuder vi in till Seniorpadel där vi tränar och/eller spelar match. En av klubbens tränare håller i passet som är ca 1 timma. Därefter bjuds det på fika i Backahallens Café. \nAnmälan
URL:https://orebrotk.se/evenemang/seniorpadel-60/2024-05-08/
CATEGORIES:Padel
END:VEVENT
END:VCALENDAR