BEGIN:VCALENDAR
VERSION:2.0
PRODID:-//Örebro TK - ECPv6.13.2.1//NONSGML v1.0//EN
CALSCALE:GREGORIAN
METHOD:PUBLISH
X-WR-CALNAME:Örebro TK
X-ORIGINAL-URL:https://orebrotk.se
X-WR-CALDESC:Händelser för Örebro TK
REFRESH-INTERVAL;VALUE=DURATION:PT1H
X-Robots-Tag:noindex
X-PUBLISHED-TTL:PT1H
BEGIN:VTIMEZONE
TZID:Europe/Stockholm
BEGIN:DAYLIGHT
TZOFFSETFROM:+0100
TZOFFSETTO:+0200
TZNAME:CEST
DTSTART:20260329T010000
END:DAYLIGHT
BEGIN:STANDARD
TZOFFSETFROM:+0200
TZOFFSETTO:+0100
TZNAME:CET
DTSTART:20261025T010000
END:STANDARD
END:VTIMEZONE
BEGIN:VEVENT
DTSTART;VALUE=DATE:20260430
DTEND;VALUE=DATE:20260504
DTSTAMP:20260420T183405
CREATED:20260330T140735Z
LAST-MODIFIED:20260330T143725Z
UID:10000157-1777507200-1777852799@orebrotk.se
SUMMARY:McDonalds Outdoor Cup 2006
DESCRIPTION:
URL:https://orebrotk.se/evenemang/mcdonalds-outdoor-cup-2006/
CATEGORIES:Tennis
LOCATION:
END:VEVENT
BEGIN:VEVENT
DTSTART;VALUE=DATE:20260608
DTEND;VALUE=DATE:20260612
DTSTAMP:20260420T183405
CREATED:20260330T143506Z
LAST-MODIFIED:20260330T143513Z
UID:10000158-1780876800-1781222399@orebrotk.se
SUMMARY:SummerTennis (vuxna)
DESCRIPTION:
URL:https://orebrotk.se/evenemang/summertennis-vuxna-2/
LOCATION:Backahallen
CATEGORIES:Tennis
END:VEVENT
BEGIN:VEVENT
DTSTART;VALUE=DATE:20260608
DTEND;VALUE=DATE:20260612
DTSTAMP:20260420T183405
CREATED:20260330T144753Z
LAST-MODIFIED:20260330T145000Z
UID:10000164-1780876800-1781222399@orebrotk.se
SUMMARY:SummerPadel (vuxna)
DESCRIPTION:
URL:https://orebrotk.se/evenemang/summerpadel-vuxna/
CATEGORIES:Padel
END:VEVENT
BEGIN:VEVENT
DTSTART;VALUE=DATE:20260615
DTEND;VALUE=DATE:20260619
DTSTAMP:20260420T183405
CREATED:20260330T151952Z
LAST-MODIFIED:20260330T151952Z
UID:10000166-1781481600-1781827199@orebrotk.se
SUMMARY:SummerPadel (barn/ungdomar/vuxna)
DESCRIPTION:
URL:https://orebrotk.se/evenemang/summerpadel-barn-ungdomar-vuxna/
END:VEVENT
BEGIN:VEVENT
DTSTART;VALUE=DATE:20260615
DTEND;VALUE=DATE:20260619
DTSTAMP:20260420T183405
CREATED:20260330T151805Z
LAST-MODIFIED:20260330T151852Z
UID:10000165-1781510400-1781802000@orebrotk.se
SUMMARY:SummerTennis (barn/ungdomar/vuxna)
DESCRIPTION:
URL:https://orebrotk.se/evenemang/summertennis-barn-ungdomar-vuxna/
CATEGORIES:Tennis
END:VEVENT
BEGIN:VEVENT
DTSTART;VALUE=DATE:20260622
DTEND;VALUE=DATE:20260626
DTSTAMP:20260420T183405
CREATED:20260330T144213Z
LAST-MODIFIED:20260330T145242Z
UID:10000161-1782086400-1782431999@orebrotk.se
SUMMARY:SummerPadel (barn/ungdomar/vuxna)
DESCRIPTION:
URL:https://orebrotk.se/evenemang/summertennis-vuxna-3/
CATEGORIES:Padel
END:VEVENT
BEGIN:VEVENT
DTSTART;VALUE=DATE:20260622
DTEND;VALUE=DATE:20260626
DTSTAMP:20260420T183405
CREATED:20260330T144453Z
LAST-MODIFIED:20260330T145033Z
UID:10000163-1782086400-1782431999@orebrotk.se
SUMMARY:SummerTennis (barn/ungdomar/vuxna)
DESCRIPTION:
URL:https://orebrotk.se/evenemang/summertennis-barn-ungdom-3/
CATEGORIES:Tennis
END:VEVENT
END:VCALENDAR