BEGIN:VCALENDAR
VERSION:2.0
PRODID:-//Örebro TK - ECPv6.13.2.1//NONSGML v1.0//EN
CALSCALE:GREGORIAN
METHOD:PUBLISH
X-WR-CALNAME:Örebro TK
X-ORIGINAL-URL:https://orebrotk.se
X-WR-CALDESC:Händelser för Örebro TK
REFRESH-INTERVAL;VALUE=DURATION:PT1H
X-Robots-Tag:noindex
X-PUBLISHED-TTL:PT1H
BEGIN:VTIMEZONE
TZID:Europe/Stockholm
BEGIN:DAYLIGHT
TZOFFSETFROM:+0100
TZOFFSETTO:+0200
TZNAME:CEST
DTSTART:20240331T010000
END:DAYLIGHT
BEGIN:STANDARD
TZOFFSETFROM:+0200
TZOFFSETTO:+0100
TZNAME:CET
DTSTART:20241027T010000
END:STANDARD
END:VTIMEZONE
BEGIN:VEVENT
DTSTART;TZID=Europe/Stockholm:20240521T183000
DTEND;TZID=Europe/Stockholm:20240521T215000
DTSTAMP:20260420T155227
CREATED:20240109T121317Z
LAST-MODIFIED:20240109T121317Z
UID:10000024-1716316200-1716328200@orebrotk.se
SUMMARY:Tennisligan
DESCRIPTION:Tennisligan\nGruppelet är perfekt för dig som spelar tennis på motionsnivå och vill spela matcher. Matcherna spelas i 50 minuter och efter matchen registrerar man i resultatet via sitt inlogg som man får när man börjar i gruppspelet. Grupperna består av 4-5 spelare och man flyttas upp och ner i de olika grupperna\, man möter alla i sin grupp en gång. Man tar själv anvar för vilka tider man ska spela sina matchter all den informatioen finns på inlogget man får när man registerar sig. Om man inte kan spela den utsatta tiden måste man tillsammans med sin motståndare komma överens om en ny tid som man då får betala själv. \nFör intresseanmälan eller frågor kontakta: eric.johansson@orebrotk.se \nSpelschema \nLycka till! \nÖrebro TK
URL:https://orebrotk.se/evenemang/tennisligan/2024-05-21/
CATEGORIES:Tennis
END:VEVENT
END:VCALENDAR