BEGIN:VCALENDAR
VERSION:2.0
PRODID:-//Örebro TK - ECPv6.13.2.1//NONSGML v1.0//EN
CALSCALE:GREGORIAN
METHOD:PUBLISH
X-WR-CALNAME:Örebro TK
X-ORIGINAL-URL:https://orebrotk.se
X-WR-CALDESC:Händelser för Örebro TK
REFRESH-INTERVAL;VALUE=DURATION:PT1H
X-Robots-Tag:noindex
X-PUBLISHED-TTL:PT1H
BEGIN:VTIMEZONE
TZID:Europe/Stockholm
BEGIN:DAYLIGHT
TZOFFSETFROM:+0100
TZOFFSETTO:+0200
TZNAME:CEST
DTSTART:20240331T010000
END:DAYLIGHT
BEGIN:STANDARD
TZOFFSETFROM:+0200
TZOFFSETTO:+0100
TZNAME:CET
DTSTART:20241027T010000
END:STANDARD
END:VTIMEZONE
BEGIN:VEVENT
DTSTART;TZID=Europe/Stockholm:20240301T080000
DTEND;TZID=Europe/Stockholm:20240303T170000
DTSTAMP:20260420T223617
CREATED:20240109T120732Z
LAST-MODIFIED:20240109T120732Z
UID:10000004-1709280000-1709485200@orebrotk.se
SUMMARY:Handelsbanken Open
DESCRIPTION:Anmälan\, lottning & Spelschema
URL:https://orebrotk.se/evenemang/handelsbanken-open/
CATEGORIES:Tennis
END:VEVENT
END:VCALENDAR