BEGIN:VCALENDAR
VERSION:2.0
PRODID:-//Örebro TK - ECPv6.13.2.1//NONSGML v1.0//EN
CALSCALE:GREGORIAN
METHOD:PUBLISH
X-ORIGINAL-URL:https://orebrotk.se
X-WR-CALDESC:Händelser för Örebro TK
REFRESH-INTERVAL;VALUE=DURATION:PT1H
X-Robots-Tag:noindex
X-PUBLISHED-TTL:PT1H
BEGIN:VTIMEZONE
TZID:Europe/Stockholm
BEGIN:DAYLIGHT
TZOFFSETFROM:+0100
TZOFFSETTO:+0200
TZNAME:CEST
DTSTART:20240331T010000
END:DAYLIGHT
BEGIN:STANDARD
TZOFFSETFROM:+0200
TZOFFSETTO:+0100
TZNAME:CET
DTSTART:20241027T010000
END:STANDARD
END:VTIMEZONE
BEGIN:VEVENT
DTSTART;TZID=Europe/Stockholm:20240402T183000
DTEND;TZID=Europe/Stockholm:20240402T215000
DTSTAMP:20260420T172744
CREATED:20240109T121317Z
LAST-MODIFIED:20240109T121317Z
UID:10000017-1712082600-1712094600@orebrotk.se
SUMMARY:Tennisligan
DESCRIPTION:Tennisligan\nGruppelet är perfekt för dig som spelar tennis på motionsnivå och vill spela matcher. Matcherna spelas i 50 minuter och efter matchen registrerar man i resultatet via sitt inlogg som man får när man börjar i gruppspelet. Grupperna består av 4-5 spelare och man flyttas upp och ner i de olika grupperna\, man möter alla i sin grupp en gång. Man tar själv anvar för vilka tider man ska spela sina matchter all den informatioen finns på inlogget man får när man registerar sig. Om man inte kan spela den utsatta tiden måste man tillsammans med sin motståndare komma överens om en ny tid som man då får betala själv. \nFör intresseanmälan eller frågor kontakta: eric.johansson@orebrotk.se \nSpelschema \nLycka till! \nÖrebro TK
URL:https://orebrotk.se/evenemang/tennisligan/2024-04-02/
CATEGORIES:Tennis
END:VEVENT
BEGIN:VEVENT
DTSTART;TZID=Europe/Stockholm:20240409T183000
DTEND;TZID=Europe/Stockholm:20240409T215000
DTSTAMP:20260420T172744
CREATED:20240109T121317Z
LAST-MODIFIED:20240109T121317Z
UID:10000018-1712687400-1712699400@orebrotk.se
SUMMARY:Tennisligan
DESCRIPTION:Tennisligan\nGruppelet är perfekt för dig som spelar tennis på motionsnivå och vill spela matcher. Matcherna spelas i 50 minuter och efter matchen registrerar man i resultatet via sitt inlogg som man får när man börjar i gruppspelet. Grupperna består av 4-5 spelare och man flyttas upp och ner i de olika grupperna\, man möter alla i sin grupp en gång. Man tar själv anvar för vilka tider man ska spela sina matchter all den informatioen finns på inlogget man får när man registerar sig. Om man inte kan spela den utsatta tiden måste man tillsammans med sin motståndare komma överens om en ny tid som man då får betala själv. \nFör intresseanmälan eller frågor kontakta: eric.johansson@orebrotk.se \nSpelschema \nLycka till! \nÖrebro TK
URL:https://orebrotk.se/evenemang/tennisligan/2024-04-09/
CATEGORIES:Tennis
END:VEVENT
BEGIN:VEVENT
DTSTART;TZID=Europe/Stockholm:20240413T120000
DTEND;TZID=Europe/Stockholm:20240413T160000
DTSTAMP:20260420T172744
CREATED:20240403T083923Z
LAST-MODIFIED:20240403T083923Z
UID:10000087-1713009600-1713024000@orebrotk.se
SUMMARY:Städdag 13/4 kl.12-16
DESCRIPTION:Nu kommer chansen att få halva ”Städavgiften” återbetald \nDen 6 april skulle vi ha haft städdag\, men pga. snön har vi beslutat att skjuta fram städdagen en vecka. Vi hoppas då att snön är borta så vi kan förbereda våra fina utomhusbanor för både träning och tävling framöver \nVar med och hjälp till:\nLördagen 13 april kl. 12.00-ca.16.00 \nSamling vid Backahallens utomhusbanor (kommer även behövas arbete kring SJ banorna) \nObservera att man för att delta behöver komma kl. 12 för att underlätta uppdelningen av arbetet. \nMedtag kratta och skottkärra om du har. \nVi ses! \nMed vänlig hälsning\nÖrebro TK
URL:https://orebrotk.se/evenemang/staddag-13-4-kl-12-16/
CATEGORIES:Tennis
END:VEVENT
BEGIN:VEVENT
DTSTART;TZID=Europe/Stockholm:20240416T183000
DTEND;TZID=Europe/Stockholm:20240416T215000
DTSTAMP:20260420T172744
CREATED:20240109T121317Z
LAST-MODIFIED:20240109T121317Z
UID:10000019-1713292200-1713304200@orebrotk.se
SUMMARY:Tennisligan
DESCRIPTION:Tennisligan\nGruppelet är perfekt för dig som spelar tennis på motionsnivå och vill spela matcher. Matcherna spelas i 50 minuter och efter matchen registrerar man i resultatet via sitt inlogg som man får när man börjar i gruppspelet. Grupperna består av 4-5 spelare och man flyttas upp och ner i de olika grupperna\, man möter alla i sin grupp en gång. Man tar själv anvar för vilka tider man ska spela sina matchter all den informatioen finns på inlogget man får när man registerar sig. Om man inte kan spela den utsatta tiden måste man tillsammans med sin motståndare komma överens om en ny tid som man då får betala själv. \nFör intresseanmälan eller frågor kontakta: eric.johansson@orebrotk.se \nSpelschema \nLycka till! \nÖrebro TK
URL:https://orebrotk.se/evenemang/tennisligan/2024-04-16/
CATEGORIES:Tennis
END:VEVENT
BEGIN:VEVENT
DTSTART;TZID=Europe/Stockholm:20240423T183000
DTEND;TZID=Europe/Stockholm:20240423T215000
DTSTAMP:20260420T172744
CREATED:20240109T121317Z
LAST-MODIFIED:20240109T121317Z
UID:10000020-1713897000-1713909000@orebrotk.se
SUMMARY:Tennisligan
DESCRIPTION:Tennisligan\nGruppelet är perfekt för dig som spelar tennis på motionsnivå och vill spela matcher. Matcherna spelas i 50 minuter och efter matchen registrerar man i resultatet via sitt inlogg som man får när man börjar i gruppspelet. Grupperna består av 4-5 spelare och man flyttas upp och ner i de olika grupperna\, man möter alla i sin grupp en gång. Man tar själv anvar för vilka tider man ska spela sina matchter all den informatioen finns på inlogget man får när man registerar sig. Om man inte kan spela den utsatta tiden måste man tillsammans med sin motståndare komma överens om en ny tid som man då får betala själv. \nFör intresseanmälan eller frågor kontakta: eric.johansson@orebrotk.se \nSpelschema \nLycka till! \nÖrebro TK
URL:https://orebrotk.se/evenemang/tennisligan/2024-04-23/
CATEGORIES:Tennis
END:VEVENT
BEGIN:VEVENT
DTSTART;TZID=Europe/Stockholm:20240426T080000
DTEND;TZID=Europe/Stockholm:20240501T170000
DTSTAMP:20260420T172744
CREATED:20240110T120057Z
LAST-MODIFIED:20240110T120057Z
UID:10000029-1714118400-1714582800@orebrotk.se
SUMMARY:Mcdonalds Outdoor Cup
DESCRIPTION:Anmälan\, Lottning & Spelschema
URL:https://orebrotk.se/evenemang/mcdonalds-outdoor-cup/
CATEGORIES:Tennis
END:VEVENT
BEGIN:VEVENT
DTSTART;TZID=Europe/Stockholm:20240430T183000
DTEND;TZID=Europe/Stockholm:20240430T215000
DTSTAMP:20260420T172744
CREATED:20240109T121317Z
LAST-MODIFIED:20240109T121317Z
UID:10000021-1714501800-1714513800@orebrotk.se
SUMMARY:Tennisligan
DESCRIPTION:Tennisligan\nGruppelet är perfekt för dig som spelar tennis på motionsnivå och vill spela matcher. Matcherna spelas i 50 minuter och efter matchen registrerar man i resultatet via sitt inlogg som man får när man börjar i gruppspelet. Grupperna består av 4-5 spelare och man flyttas upp och ner i de olika grupperna\, man möter alla i sin grupp en gång. Man tar själv anvar för vilka tider man ska spela sina matchter all den informatioen finns på inlogget man får när man registerar sig. Om man inte kan spela den utsatta tiden måste man tillsammans med sin motståndare komma överens om en ny tid som man då får betala själv. \nFör intresseanmälan eller frågor kontakta: eric.johansson@orebrotk.se \nSpelschema \nLycka till! \nÖrebro TK
URL:https://orebrotk.se/evenemang/tennisligan/2024-04-30/
CATEGORIES:Tennis
END:VEVENT
END:VCALENDAR