BEGIN:VCALENDAR
VERSION:2.0
PRODID:-//Örebro TK - ECPv6.13.2.1//NONSGML v1.0//EN
CALSCALE:GREGORIAN
METHOD:PUBLISH
X-ORIGINAL-URL:https://orebrotk.se
X-WR-CALDESC:Händelser för Örebro TK
REFRESH-INTERVAL;VALUE=DURATION:PT1H
X-Robots-Tag:noindex
X-PUBLISHED-TTL:PT1H
BEGIN:VTIMEZONE
TZID:Europe/Stockholm
BEGIN:DAYLIGHT
TZOFFSETFROM:+0100
TZOFFSETTO:+0200
TZNAME:CEST
DTSTART:20240331T010000
END:DAYLIGHT
BEGIN:STANDARD
TZOFFSETFROM:+0200
TZOFFSETTO:+0100
TZNAME:CET
DTSTART:20241027T010000
END:STANDARD
END:VTIMEZONE
BEGIN:VEVENT
DTSTART;TZID=Europe/Stockholm:20240206T183000
DTEND;TZID=Europe/Stockholm:20240206T215000
DTSTAMP:20260420T190836
CREATED:20240109T121317Z
LAST-MODIFIED:20240109T121317Z
UID:10000009-1707244200-1707256200@orebrotk.se
SUMMARY:Tennisligan
DESCRIPTION:Tennisligan\nGruppelet är perfekt för dig som spelar tennis på motionsnivå och vill spela matcher. Matcherna spelas i 50 minuter och efter matchen registrerar man i resultatet via sitt inlogg som man får när man börjar i gruppspelet. Grupperna består av 4-5 spelare och man flyttas upp och ner i de olika grupperna\, man möter alla i sin grupp en gång. Man tar själv anvar för vilka tider man ska spela sina matchter all den informatioen finns på inlogget man får när man registerar sig. Om man inte kan spela den utsatta tiden måste man tillsammans med sin motståndare komma överens om en ny tid som man då får betala själv. \nFör intresseanmälan eller frågor kontakta: eric.johansson@orebrotk.se \nSpelschema \nLycka till! \nÖrebro TK
URL:https://orebrotk.se/evenemang/tennisligan/2024-02-06/
CATEGORIES:Tennis
END:VEVENT
BEGIN:VEVENT
DTSTART;TZID=Europe/Stockholm:20240213T183000
DTEND;TZID=Europe/Stockholm:20240213T215000
DTSTAMP:20260420T190836
CREATED:20240109T121317Z
LAST-MODIFIED:20240109T121317Z
UID:10000010-1707849000-1707861000@orebrotk.se
SUMMARY:Tennisligan
DESCRIPTION:Tennisligan\nGruppelet är perfekt för dig som spelar tennis på motionsnivå och vill spela matcher. Matcherna spelas i 50 minuter och efter matchen registrerar man i resultatet via sitt inlogg som man får när man börjar i gruppspelet. Grupperna består av 4-5 spelare och man flyttas upp och ner i de olika grupperna\, man möter alla i sin grupp en gång. Man tar själv anvar för vilka tider man ska spela sina matchter all den informatioen finns på inlogget man får när man registerar sig. Om man inte kan spela den utsatta tiden måste man tillsammans med sin motståndare komma överens om en ny tid som man då får betala själv. \nFör intresseanmälan eller frågor kontakta: eric.johansson@orebrotk.se \nSpelschema \nLycka till! \nÖrebro TK
URL:https://orebrotk.se/evenemang/tennisligan/2024-02-13/
CATEGORIES:Tennis
END:VEVENT
BEGIN:VEVENT
DTSTART;TZID=Europe/Stockholm:20240219T174000
DTEND;TZID=Europe/Stockholm:20240219T192000
DTSTAMP:20260420T190836
CREATED:20240109T140405Z
LAST-MODIFIED:20240109T140405Z
UID:10000025-1708364400-1708370400@orebrotk.se
SUMMARY:Intensivkurs Vuxna
DESCRIPTION:Intensivkurser i tennis (måndag-torsdag) för vuxna. Kurserna vänder sig till både nybörjare och fortsättningsspelare. \nKl. 17.40-19.20 \nMåndag: Grundslag/spelövningar\n \nTisdag: Grundslag / Volley \n \nOnsdag: Serve\n \nTorsdag: Poängspel\n \n  \nPris:\nMedlem: 1200 kr (faktureras)\nIcke medlem 1400 kr (faktureras) \n  \nOBS! Antalet platser är begränsat. \nSista anmälningsdag är 10/2! \nAnmälan
URL:https://orebrotk.se/evenemang/intensivkurs-vuxna/2024-02-19/
CATEGORIES:Tennis
END:VEVENT
BEGIN:VEVENT
DTSTART;TZID=Europe/Stockholm:20240220T174000
DTEND;TZID=Europe/Stockholm:20240220T192000
DTSTAMP:20260420T190836
CREATED:20240109T140405Z
LAST-MODIFIED:20240109T140405Z
UID:10000026-1708450800-1708456800@orebrotk.se
SUMMARY:Intensivkurs Vuxna
DESCRIPTION:Intensivkurser i tennis (måndag-torsdag) för vuxna. Kurserna vänder sig till både nybörjare och fortsättningsspelare. \nKl. 17.40-19.20 \nMåndag: Grundslag/spelövningar\n \nTisdag: Grundslag / Volley \n \nOnsdag: Serve\n \nTorsdag: Poängspel\n \n  \nPris:\nMedlem: 1200 kr (faktureras)\nIcke medlem 1400 kr (faktureras) \n  \nOBS! Antalet platser är begränsat. \nSista anmälningsdag är 10/2! \nAnmälan
URL:https://orebrotk.se/evenemang/intensivkurs-vuxna/2024-02-20/
CATEGORIES:Tennis
END:VEVENT
BEGIN:VEVENT
DTSTART;TZID=Europe/Stockholm:20240220T183000
DTEND;TZID=Europe/Stockholm:20240220T215000
DTSTAMP:20260420T190836
CREATED:20240109T121317Z
LAST-MODIFIED:20240109T121317Z
UID:10000011-1708453800-1708465800@orebrotk.se
SUMMARY:Tennisligan
DESCRIPTION:Tennisligan\nGruppelet är perfekt för dig som spelar tennis på motionsnivå och vill spela matcher. Matcherna spelas i 50 minuter och efter matchen registrerar man i resultatet via sitt inlogg som man får när man börjar i gruppspelet. Grupperna består av 4-5 spelare och man flyttas upp och ner i de olika grupperna\, man möter alla i sin grupp en gång. Man tar själv anvar för vilka tider man ska spela sina matchter all den informatioen finns på inlogget man får när man registerar sig. Om man inte kan spela den utsatta tiden måste man tillsammans med sin motståndare komma överens om en ny tid som man då får betala själv. \nFör intresseanmälan eller frågor kontakta: eric.johansson@orebrotk.se \nSpelschema \nLycka till! \nÖrebro TK
URL:https://orebrotk.se/evenemang/tennisligan/2024-02-20/
CATEGORIES:Tennis
END:VEVENT
BEGIN:VEVENT
DTSTART;TZID=Europe/Stockholm:20240221T174000
DTEND;TZID=Europe/Stockholm:20240221T192000
DTSTAMP:20260420T190836
CREATED:20240109T140405Z
LAST-MODIFIED:20240109T140405Z
UID:10000027-1708537200-1708543200@orebrotk.se
SUMMARY:Intensivkurs Vuxna
DESCRIPTION:Intensivkurser i tennis (måndag-torsdag) för vuxna. Kurserna vänder sig till både nybörjare och fortsättningsspelare. \nKl. 17.40-19.20 \nMåndag: Grundslag/spelövningar\n \nTisdag: Grundslag / Volley \n \nOnsdag: Serve\n \nTorsdag: Poängspel\n \n  \nPris:\nMedlem: 1200 kr (faktureras)\nIcke medlem 1400 kr (faktureras) \n  \nOBS! Antalet platser är begränsat. \nSista anmälningsdag är 10/2! \nAnmälan
URL:https://orebrotk.se/evenemang/intensivkurs-vuxna/2024-02-21/
CATEGORIES:Tennis
END:VEVENT
BEGIN:VEVENT
DTSTART;TZID=Europe/Stockholm:20240222T174000
DTEND;TZID=Europe/Stockholm:20240222T192000
DTSTAMP:20260420T190836
CREATED:20240109T140405Z
LAST-MODIFIED:20240109T140405Z
UID:10000028-1708623600-1708629600@orebrotk.se
SUMMARY:Intensivkurs Vuxna
DESCRIPTION:Intensivkurser i tennis (måndag-torsdag) för vuxna. Kurserna vänder sig till både nybörjare och fortsättningsspelare. \nKl. 17.40-19.20 \nMåndag: Grundslag/spelövningar\n \nTisdag: Grundslag / Volley \n \nOnsdag: Serve\n \nTorsdag: Poängspel\n \n  \nPris:\nMedlem: 1200 kr (faktureras)\nIcke medlem 1400 kr (faktureras) \n  \nOBS! Antalet platser är begränsat. \nSista anmälningsdag är 10/2! \nAnmälan
URL:https://orebrotk.se/evenemang/intensivkurs-vuxna/2024-02-22/
CATEGORIES:Tennis
END:VEVENT
BEGIN:VEVENT
DTSTART;TZID=Europe/Stockholm:20240227T183000
DTEND;TZID=Europe/Stockholm:20240227T215000
DTSTAMP:20260420T190836
CREATED:20240109T121317Z
LAST-MODIFIED:20240109T121317Z
UID:10000012-1709058600-1709070600@orebrotk.se
SUMMARY:Tennisligan
DESCRIPTION:Tennisligan\nGruppelet är perfekt för dig som spelar tennis på motionsnivå och vill spela matcher. Matcherna spelas i 50 minuter och efter matchen registrerar man i resultatet via sitt inlogg som man får när man börjar i gruppspelet. Grupperna består av 4-5 spelare och man flyttas upp och ner i de olika grupperna\, man möter alla i sin grupp en gång. Man tar själv anvar för vilka tider man ska spela sina matchter all den informatioen finns på inlogget man får när man registerar sig. Om man inte kan spela den utsatta tiden måste man tillsammans med sin motståndare komma överens om en ny tid som man då får betala själv. \nFör intresseanmälan eller frågor kontakta: eric.johansson@orebrotk.se \nSpelschema \nLycka till! \nÖrebro TK
URL:https://orebrotk.se/evenemang/tennisligan/2024-02-27/
CATEGORIES:Tennis
END:VEVENT
END:VCALENDAR