BEGIN:VCALENDAR
VERSION:2.0
PRODID:-//Örebro TK - ECPv6.13.2.1//NONSGML v1.0//EN
CALSCALE:GREGORIAN
METHOD:PUBLISH
X-ORIGINAL-URL:https://orebrotk.se
X-WR-CALDESC:Händelser för Örebro TK
REFRESH-INTERVAL;VALUE=DURATION:PT1H
X-Robots-Tag:noindex
X-PUBLISHED-TTL:PT1H
BEGIN:VTIMEZONE
TZID:Europe/Stockholm
BEGIN:DAYLIGHT
TZOFFSETFROM:+0100
TZOFFSETTO:+0200
TZNAME:CEST
DTSTART:20250330T010000
END:DAYLIGHT
BEGIN:STANDARD
TZOFFSETFROM:+0200
TZOFFSETTO:+0100
TZNAME:CET
DTSTART:20251026T010000
END:STANDARD
END:VTIMEZONE
BEGIN:VEVENT
DTSTART;VALUE=DATE:20250103
DTEND;VALUE=DATE:20250106
DTSTAMP:20260420T221630
CREATED:20241120T185757Z
LAST-MODIFIED:20241120T185757Z
UID:10000151-1735862400-1736121599@orebrotk.se
SUMMARY:Synsam Padel Open i Backahallen
DESCRIPTION:Sanktionerad padel-tävling för alla åldrar. Anmälan sker här:
URL:https://orebrotk.se/evenemang/synsam-padel-open-i-backahallen/
CATEGORIES:Padel
END:VEVENT
BEGIN:VEVENT
DTSTART;VALUE=DATE:20250109
DTEND;VALUE=DATE:20250110
DTSTAMP:20260420T221630
CREATED:20241212T092920Z
LAST-MODIFIED:20241212T092934Z
UID:10000155-1736380800-1736467199@orebrotk.se
SUMMARY:VT25 Terminstart
DESCRIPTION:
URL:https://orebrotk.se/evenemang/terminstart/
CATEGORIES:Padel,Tennis
END:VEVENT
BEGIN:VEVENT
DTSTART;VALUE=DATE:20250119
DTEND;VALUE=DATE:20250120
DTSTAMP:20260420T221630
CREATED:20241001T135058Z
LAST-MODIFIED:20241001T135058Z
UID:10000147-1737244800-1737331199@orebrotk.se
SUMMARY:Swedish Padel League Damer
DESCRIPTION:Hemma-match i Swedish Padel League för vårt damlag DIV 2 väst.
URL:https://orebrotk.se/evenemang/swedish-padel-league-damer/
CATEGORIES:Padel
END:VEVENT
END:VCALENDAR