BEGIN:VCALENDAR
VERSION:2.0
PRODID:-//Örebro TK - ECPv6.13.2.1//NONSGML v1.0//EN
CALSCALE:GREGORIAN
METHOD:PUBLISH
X-WR-CALNAME:Örebro TK
X-ORIGINAL-URL:https://orebrotk.se
X-WR-CALDESC:Händelser för Örebro TK
REFRESH-INTERVAL;VALUE=DURATION:PT1H
X-Robots-Tag:noindex
X-PUBLISHED-TTL:PT1H
BEGIN:VTIMEZONE
TZID:Europe/Stockholm
BEGIN:DAYLIGHT
TZOFFSETFROM:+0100
TZOFFSETTO:+0200
TZNAME:CEST
DTSTART:20240331T010000
END:DAYLIGHT
BEGIN:STANDARD
TZOFFSETFROM:+0200
TZOFFSETTO:+0100
TZNAME:CET
DTSTART:20241027T010000
END:STANDARD
END:VTIMEZONE
BEGIN:VEVENT
DTSTART;TZID=Europe/Stockholm:20241216T170000
DTEND;TZID=Europe/Stockholm:20241216T200000
DTSTAMP:20260420T214750
CREATED:20240927T073408Z
LAST-MODIFIED:20240927T073408Z
UID:10000132-1734368400-1734379200@orebrotk.se
SUMMARY:Herrar – Elitserien Örebro TK - Solna TK i Backahallen
DESCRIPTION:
URL:https://orebrotk.se/evenemang/herrar-elitserien-orebro-tk-solna-tk-i-backahallen/
CATEGORIES:Tennis
END:VEVENT
END:VCALENDAR