BEGIN:VCALENDAR
VERSION:2.0
PRODID:-//Örebro TK - ECPv6.13.2.1//NONSGML v1.0//EN
CALSCALE:GREGORIAN
METHOD:PUBLISH
X-WR-CALNAME:Örebro TK
X-ORIGINAL-URL:https://orebrotk.se
X-WR-CALDESC:Händelser för Örebro TK
REFRESH-INTERVAL;VALUE=DURATION:PT1H
X-Robots-Tag:noindex
X-PUBLISHED-TTL:PT1H
BEGIN:VTIMEZONE
TZID:Europe/Stockholm
BEGIN:DAYLIGHT
TZOFFSETFROM:+0100
TZOFFSETTO:+0200
TZNAME:CEST
DTSTART:20240331T010000
END:DAYLIGHT
BEGIN:STANDARD
TZOFFSETFROM:+0200
TZOFFSETTO:+0100
TZNAME:CET
DTSTART:20241027T010000
END:STANDARD
END:VTIMEZONE
BEGIN:VEVENT
DTSTART;VALUE=DATE:20240610
DTEND;VALUE=DATE:20240614
DTSTAMP:20260420T135055
CREATED:20240527T160316Z
LAST-MODIFIED:20240527T160316Z
UID:10000115-1717977600-1718323199@orebrotk.se
SUMMARY:Summer Tennis v.24
DESCRIPTION:http://www.orebrotk.se
URL:https://orebrotk.se/evenemang/summer-tennis-v-24/
CATEGORIES:Tennis
END:VEVENT
BEGIN:VEVENT
DTSTART;TZID=Europe/Stockholm:20240613T170000
DTEND;TZID=Europe/Stockholm:20240613T210000
DTSTAMP:20260420T135055
CREATED:20240407T234621Z
LAST-MODIFIED:20240408T001701Z
UID:10000096-1718298000-1718312400@orebrotk.se
SUMMARY:Summer Padel Vuxen v24
DESCRIPTION:Intensivkurser i padel för vuxna (18 år och äldre). Kurserna hålls måndag-torsdag (4 dagar). \nAnmälan \n 
URL:https://orebrotk.se/evenemang/summer-padel-vuxen-v24/2024-06-13/
CATEGORIES:Padel
END:VEVENT
END:VCALENDAR